Workbook

Sheet IZVJEŠĆE
B1: REPUBLIKA HRVATSKA
B2: PRIMORSKO-GORANSKA ŽUPANIJA
B3: OSNOVNA ŠKOLA MARIA MARTINOLIĆA
B4: 51 550 Mali Lošinj, Omladinska 11
B7: Temeljema članka 5. stavka 7. Pravlinka o provedbi postupaka jednostavne nabave OŠ Maria Martinolića obajvljuje izvješće o
B10: kumulativnoj vrijednost izdanih narudžbenica prema oznakama CPV (JEDINSTVENI RJEČNIK JAVNE NABAVE) u postupcima jednostavne | J10: =K10-1 -> 9 | K10: =MONTH(L10) -> 10 | L10: =TODAY() -> 46310
D12: nabave čija je procijenjenja vrijednost manja od 5.000,00 eura bez PDV-a za mjesec | E12: RUJAN | F12: 2026. godine
B15: R. B. | C15: PREDMET NABAVE | D15: CPV | E15: IZNOS BEZ PDV-A | F15: PDV | G15: UKUPNO
B16: 1 | C16: Uredski materijal | D16: 30192000 | E16: 174.15 | F16: 43.54 | G16: 217.69
B17: 2 | C17: Uredski materijal - toneri | D17: 30125100 | E17: 42.65 | F17: 10.67 | G17: 53.32
B18: 3 | C18: Proizvodi za čišćenje | D18: 39830000 | E18: 295.8 | F18: 66.91 | G18: 362.71
B19: 4 | C19: Elektroničke potrepštine | D19: 31711000 | E19: 59.5 | F19: 14.88 | G19: 74.38
B20: 5 | C20: Tekstilne tkanine i srodni proizvodi | D20: 19200000 | E20: 26.8 | F20: 6.7 | G20: 33.5
B21: 6 | C21: Prerađeno voće i povrće | D21: 15330000 | E21: 117.31 | F21: 29.33 | G21: 146.64
B22: 7 | C22: Alati, brave, ključevi, šarke, spojeni elementi, lanac i opruge | D22: 44500000 | E22: 632.91 | F22: 153.24 | G22: 786.15
B23: 8 | C23: Električne potrepštine i pribor | D23: 31680000 | E23: 105 | F23: 26.25 | G23: 131.25
B24: 9 | C24: Proizvodi za kupaonicu i kuhinju | D24: 44410000 | E24: 31.29 | F24: 7.83 | G24: 39.12
B25: 10 | C25: Kuhinjska oprema | D25: 39221000 | E25: 2301 | F25: 575.25 | G25: 2876.25
B26: 11 | C26: Stolarski radovi | D26: 45421000 | E26: 3700 | F26: 923 | G26: 4623
B27: 12 | C27: Grafičke i tiskarske usluge, usluge kopiranja i uvezivanja i slično | D27: 78180000 | E27: 40 | F27: 10 | G27: 50
B28: 13 | C28: Usluge čišćenja, pranja i slično | D28: 74740000 | E28: 600 | F28: 150 | G28: 750
... B36: 21 | C36: Oprema za grijanje, ventilaciju i hlađenje | D36: 39717000 | E36: 1140 | F36: 285 | G36: 1425
B37: UKUPNO | E37: 10834.66 | F37: 2563.94 | G37: 13398.6

Sheet SUMARNA
H1: NARUČENO
A2: RB | B2: BROJ NAR. | C2: DATUM | D2: DOBAVLJAČ | E2: KONTO | F2: PREDMET NABAVE | G2: CPV | H2: IZNOS BEZ PDV-A | I2: PDV | J2: UKUPNO | K2: RADNI NALOG | L2: napomena
A3: 318 | L3: =NARUDŽNENICE!N3 -> 0
A4: 319 | L4: =NARUDŽNENICE!N4 -> 0
A5: 320 | L5: =NARUDŽNENICE!N5 -> 0
A6: 321 | L6: =NARUDŽNENICE!N6 -> 0
A7: 322 | L7: =NARUDŽNENICE!N7 -> 0
A8: 323 | L8: =NARUDŽNENICE!N8 -> 0
A9: 324 | L9: =NARUDŽNENICE!N9 -> 0
A10: 325 | L10: =NARUDŽNENICE!N10 -> 0
A11: 326 | L11: =NARUDŽNENICE!N11 -> 0
A12: 327 | L12: =NARUDŽNENICE!N12 -> 0
A13: 328 | L13: =NARUDŽNENICE!N13 -> 0
A14: 329 | L14: =NARUDŽNENICE!N14 -> 0
... A77: 392 | L77: =NARUDŽNENICE!N77 -> 0
L78: =NARUDŽNENICE!N78 -> 0
L79: =NARUDŽNENICE!N79 -> 0
L80: =NARUDŽNENICE!N80 -> 0
L81: =NARUDŽNENICE!N81 -> 0
L82: =NARUDŽNENICE!N82 -> 0
L83: =NARUDŽNENICE!N83 -> 0
L84: =NARUDŽNENICE!N84 -> 0
L85: =NARUDŽNENICE!N85 -> 0
L86: =NARUDŽNENICE!N86 -> 0
L87: =NARUDŽNENICE!N87 -> 0
L88: =NARUDŽNENICE!N88 -> 0
L89: =NARUDŽNENICE!N89 -> 0
... L239: =NARUDŽNENICE!N239 -> 0
A320: 318 | L320: =NARUDŽNENICE!N320 -> 0
A321: 319 | L321: =NARUDŽNENICE!N321 -> 0
A322: 320 | L322: =NARUDŽNENICE!N322 -> 0
A323: 321 | L323: =NARUDŽNENICE!N323 -> 0
A324: 322 | L324: =NARUDŽNENICE!N324 -> 0
A325: 323 | L325: =NARUDŽNENICE!N325 -> 0
A326: 324 | L326: =NARUDŽNENICE!N326 -> 0
A327: 325 | L327: =NARUDŽNENICE!N327 -> 0
A328: 326 | L328: =NARUDŽNENICE!N328 -> 0
A329: 327 | L329: =NARUDŽNENICE!N329 -> 0
A330: 328 | L330: =NARUDŽNENICE!N330 -> 0
A331: 329 | L331: =NARUDŽNENICE!N331 -> 0
...

Sheet NARUDŽNENICE
I1: NARUČENO
A2: RB | B2: BROJ NAR. | C2: DATUM | D2: DOBAVLJAČ | E2: KONTO // PREDMET NABAVE // CPV | F2: KONTO | G2: PREDMET NABAVE | H2: CPV | I2: IZNOS BEZ PDV-A | J2: PDV | K2: UKUPNO | L2: RADNI NALOG | M2: RADNI NALOG | N2: napomena
A3: 1 | B3: =[1]NARUDŽNENICE!B3 -> 1 | C3: =[1]NARUDŽNENICE!C3 -> 07.01.2026. | D3: =[1]NARUDŽNENICE!D3 -> Jadranka trgovina d.o.o. | E3: =[1]NARUDŽNENICE!E3 -> 322241 + Meso, mesni proizvodi i riba + 15100000 | H3: =[1]NARUDŽNENICE!H3 -> 15100000 | I3: =[1]NARUDŽNENICE!I3 -> 182.21 | J3: =[1]NARUDŽNENICE!J3 -> 21.16 | K3: =SUM(I3:J3) -> 203.37 | L3: =[1]NARUDŽNENICE!P3 -> 201-43-01 + COOR - prihodi za posebne namjene | M3: =[1]NARUDŽNENICE!Q3 -> 201-43-01 | N3: =[1]NARUDŽNENICE!R3 -> 0
A4: 2 | B4: =[1]NARUDŽNENICE!B4 -> 2 | C4: =[1]NARUDŽNENICE!C4 -> 07.01.2026. | D4: =[1]NARUDŽNENICE!D4 -> Jadranka trgovina d.o.o. | E4: =[1]NARUDŽNENICE!E4 -> 322241 + Mlijeko i mliječni proizvodi + 15500000 | H4: =[1]NARUDŽNENICE!H4 -> 15500000 | I4: =[1]NARUDŽNENICE!I4 -> 39 | J4: =[1]NARUDŽNENICE!J4 -> 8.31 | K4: =SUM(I4:J4) -> 47.31 | L4: =[1]NARUDŽNENICE!P4 -> 201-43-01 + COOR - prihodi za posebne namjene | M4: =[1]NARUDŽNENICE!Q4 -> 201-43-01 | N4: =[1]NARUDŽNENICE!R4 -> 0
A5: 3 | B5: =[1]NARUDŽNENICE!B5 -> 3 | C5: =[1]NARUDŽNENICE!C5 -> 07.01.2026. | D5: =[1]NARUDŽNENICE!D5 -> Jadranka trgovina d.o.o. | E5: =[1]NARUDŽNENICE!E5 -> 322241 + Krušni proizvodi, svježa peciva i kolači + 15810000 | H5: =[1]NARUDŽNENICE!H5 -> 15810000 | I5: =[1]NARUDŽNENICE!I5 -> 80.46 | J5: =[1]NARUDŽNENICE!J5 -> 12.85 | K5: =SUM(I5:J5) -> 93.31 | L5: =[1]NARUDŽNENICE!P5 -> 201-43-01 + COOR - prihodi za posebne namjene | M5: =[1]NARUDŽNENICE!Q5 -> 201-43-01 | N5: =[1]NARUDŽNENICE!R5 -> 0
A6: 4 | B6: =[1]NARUDŽNENICE!B6 -> 4 | C6: =[1]NARUDŽNENICE!C6 -> 07.01.2026. | D6: =[1]NARUDŽNENICE!D6 -> Jadranka trgovina d.o.o. | E6: =[1]NARUDŽNENICE!E6 -> 322241 + Voće i orašasti plodovi + 03222000 | H6: =[1]NARUDŽNENICE!H6 -> 03222000 | I6: =[1]NARUDŽNENICE!I6 -> 46.72 | J6: =[1]NARUDŽNENICE!J6 -> 2.34 | K6: =SUM(I6:J6) -> 49.06 | L6: =[1]NARUDŽNENICE!P6 -> 201-43-01 + COOR - prihodi za posebne namjene | M6: =[1]NARUDŽNENICE!Q6 -> 201-43-01 | N6: =[1]NARUDŽNENICE!R6 -> 0
A7: 5 | B7: =[1]NARUDŽNENICE!B7 -> 5 | C7: =[1]NARUDŽNENICE!C7 -> 07.01.2026. | D7: =[1]NARUDŽNENICE!D7 -> Jadranka trgovina d.o.o. | E7: =[1]NARUDŽNENICE!E7 -> 322241 + Povrće + 03221000 | H7: =[1]NARUDŽNENICE!H7 -> 03221000 | I7: =[1]NARUDŽNENICE!I7 -> 113.07 | J7: =[1]NARUDŽNENICE!J7 -> 6.39 | K7: =SUM(I7:J7) -> 119.46 | L7: =[1]NARUDŽNENICE!P7 -> 201-43-01 + COOR - prihodi za posebne namjene | M7: =[1]NARUDŽNENICE!Q7 -> 201-43-01 | N7: =[1]NARUDŽNENICE!R7 -> 0
A8: 6 | B8: =[1]NARUDŽNENICE!B8 -> 6 | C8: =[1]NARUDŽNENICE!C8 -> 07.01.2026. | D8: =[1]NARUDŽNENICE!D8 -> Jadranka trgovina d.o.o. | E8: =[1]NARUDŽNENICE!E8 -> 322241 + Prerađeno voće i povrće + 15330000 | H8: =[1]NARUDŽNENICE!H8 -> 15330000 | I8: =[1]NARUDŽNENICE!I8 -> 33.2 | J8: =[1]NARUDŽNENICE!J8 -> 8.31 | K8: =SUM(I8:J8) -> 41.51 | L8: =[1]NARUDŽNENICE!P8 -> 201-43-01 + COOR - prihodi za posebne namjene | M8: =[1]NARUDŽNENICE!Q8 -> 201-43-01 | N8: =[1]NARUDŽNENICE!R8 -> 0
A9: 7 | B9: =[1]NARUDŽNENICE!B9 -> 7 | C9: =[1]NARUDŽNENICE!C9 -> 07.01.2026. | D9: =[1]NARUDŽNENICE!D9 -> Jadranka trgovina d.o.o. | E9: =[1]NARUDŽNENICE!E9 -> 322241 + Ostale namirnice + 15800000 | H9: =[1]NARUDŽNENICE!H9 -> 15800000 | I9: =[1]NARUDŽNENICE!I9 -> 80.24 | J9: =[1]NARUDŽNENICE!J9 -> 12.4 | K9: =SUM(I9:J9) -> 92.64 | L9: =[1]NARUDŽNENICE!P9 -> 201-43-01 + COOR - prihodi za posebne namjene | M9: =[1]NARUDŽNENICE!Q9 -> 201-43-01 | N9: =[1]NARUDŽNENICE!R9 -> 0
A10: 8 | B10: =[1]NARUDŽNENICE!B10 -> 8 | C10: =[1]NARUDŽNENICE!C10 -> 07.01.2026. | D10: =[1]NARUDŽNENICE!D10 -> Jadranka trgovina d.o.o. | E10: =[1]NARUDŽNENICE!E10 -> 322241 + Voće i orašasti plodovi + 03222000 | H10: =[1]NARUDŽNENICE!H10 -> 03222000 | I10: =[1]NARUDŽNENICE!I10 -> 65.9 | J10: =[1]NARUDŽNENICE!J10 -> 3.3 | K10: =SUM(I10:J10) -> 69.2 | L10: =[1]NARUDŽNENICE!P10 -> 205-11-01 + Jedna voćka za svakog prvašića | M10: =[1]NARUDŽNENICE!Q10 -> 205-11-01 | N10: =[1]NARUDŽNENICE!R10 -> 0
A11: 9 | B11: =[1]NARUDŽNENICE!B11 -> 9 | C11: =[1]NARUDŽNENICE!C11 -> 08.01.2026. | D11: =[1]NARUDŽNENICE!D11 -> Jadranka trgovina d.o.o. | E11: =[1]NARUDŽNENICE!E11 -> 322241 + Ostale namirnice - nerezine + 15000000 | H11: =[1]NARUDŽNENICE!H11 -> 15000000 | I11: =[1]NARUDŽNENICE!I11 -> 7.81 | J11: =[1]NARUDŽNENICE!J11 -> 1.38 | K11: =SUM(I11:J11) -> 9.19 | L11: =[1]NARUDŽNENICE!P11 -> 104-550-01 + Prehrana učenika u osnovnim školama | M11: =[1]NARUDŽNENICE!Q11 -> 104-550-01 | N11: =[1]NARUDŽNENICE!R11 -> 0
A12: 10 | B12: =[1]NARUDŽNENICE!B12 -> 10 | C12: =[1]NARUDŽNENICE!C12 -> 08.01.2026. | D12: =[1]NARUDŽNENICE!D12 -> Jadranka trgovina d.o.o. | E12: =[1]NARUDŽNENICE!E12 -> 322241 + Ostale namirnice - nerezine + 15000000 | H12: =[1]NARUDŽNENICE!H12 -> 15000000 | I12: =[1]NARUDŽNENICE!I12 -> 5.62 | J12: =[1]NARUDŽNENICE!J12 -> 0.35 | K12: =SUM(I12:J12) -> 5.97 | L12: =[1]NARUDŽNENICE!P12 -> 104-550-01 + Prehrana učenika u osnovnim školama | M12: =[1]NARUDŽNENICE!Q12 -> 104-550-01 | N12: =[1]NARUDŽNENICE!R12 -> 0
A13: 11 | B13: =[1]NARUDŽNENICE!B13 -> 11 | C13: =[1]NARUDŽNENICE!C13 -> 08.01.2026. | D13: =[1]NARUDŽNENICE!D13 -> Jadranka trgovina d.o.o. | E13: =[1]NARUDŽNENICE!E13 -> 322241 + Ostale namirnice - nerezine + 15000000 | H13: =[1]NARUDŽNENICE!H13 -> 15000000 | I13: =[1]NARUDŽNENICE!I13 -> 10.19 | J13: =[1]NARUDŽNENICE!J13 -> 0.52 | K13: =SUM(I13:J13) -> 10.71 | L13: =[1]NARUDŽNENICE!P13 -> 104-550-01 + Prehrana učenika u osnovnim školama | M13: =[1]NARUDŽNENICE!Q13 -> 104-550-01 | N13: =[1]NARUDŽNENICE!R13 -> 0
A14: 12 | B14: =[1]NARUDŽNENICE!B14 -> 12 | C14: =[1]NARUDŽNENICE!C14 -> 08.01.2026. | D14: =[1]NARUDŽNENICE!D14 -> Jadranka trgovina d.o.o. | E14: =[1]NARUDŽNENICE!E14 -> 322241 + Ostale namirnice - nerezine + 15000000 | H14: =[1]NARUDŽNENICE!H14 -> 15000000 | I14: =[1]NARUDŽNENICE!I14 -> 12.46 | J14: =[1]NARUDŽNENICE!J14 -> 2.54 | K14: =SUM(I14:J14) -> 15 | L14: =[1]NARUDŽNENICE!P14 -> 104-550-01 + Prehrana učenika u osnovnim školama | M14: =[1]NARUDŽNENICE!Q14 -> 104-550-01 | N14: =[1]NARUDŽNENICE!R14 -> 0
... A163: 161 | B163: =[1]NARUDŽNENICE!B163 -> 162 | C163: =[1]NARUDŽNENICE!C163 -> 27.02.2026. | D163: =[1]NARUDŽNENICE!D163 -> Lječilište Veli Lošinj | E163: =[1]NARUDŽNENICE!E163 -> 323991 + Usluge dostavljanja pripremljene hrane (catering) u škole + 55524000 | H163: =[1]NARUDŽNENICE!H163 -> 55524000 | I163: =[1]NARUDŽNENICE!I163 -> 514.8 | J163: =[1]NARUDŽNENICE!J163 -> 66.92 | K163: =SUM(I163:J163) -> 581.72 | L163: =[1]NARUDŽNENICE!P163 -> 104-550-01 + Prehrana učenika u osnovnim školama | M163: =[1]NARUDŽNENICE!Q163 -> 104-550-01 | N163: =[1]NARUDŽNENICE!R163 -> 0
A164: 162 | B164: =[1]NARUDŽNENICE!B164 -> 163 | C164: =[1]NARUDŽNENICE!C164 -> 02.03.2026. | D164: =[1]NARUDŽNENICE!D164 -> Lječilište Veli Lošinj | E164: =[1]NARUDŽNENICE!E164 -> 323991 + Usluge dostavljanja pripremljene hrane (catering) u škole + 55524000 | F164: =IF(E164=0," ",LEFT(E164, SEARCH("+",E164)-1)) -> 323991 | G164: =IF(E164=0," ",MID(E164,SEARCH("+",E164)+1,SEARCH("+",E164,SEARCH("+",E164)+1)-SEARCH("+",E164)-1)) -> Usluge dostavljanja pripremljene hrane (catering) u škole | H164: =[1]NARUDŽNENICE!H164 -> 55524000 | I164: =[1]NARUDŽNENICE!I164 -> 521.82 | J164: =[1]NARUDŽNENICE!J164 -> 67.84 | K164: =SUM(I164:J164) -> 589.66 | L164: =[1]NARUDŽNENICE!P164 -> 104-550-01 + Prehrana učenika u osnovnim školama | M164: =[1]NARUDŽNENICE!Q164 -> 104-550-01 | N164: =[1]NARUDŽNENICE!R164 -> 0
A165: 163 | B165: =[1]NARUDŽNENICE!B165 -> 164 | C165: =[1]NARUDŽNENICE!C165 -> 03.03.2026 | D165: =[1]NARUDŽNENICE!D165 -> Lječilište Veli Lošinj | E165: =[1]NARUDŽNENICE!E165 -> 323991 + Usluge dostavljanja pripremljene hrane (catering) u škole + 55524000 | F165: =IF(E165=0," ",LEFT(E165, SEARCH("+",E165)-1)) -> 323991 | G165: =IF(E165=0," ",MID(E165,SEARCH("+",E165)+1,SEARCH("+",E165,SEARCH("+",E165)+1)-SEARCH("+",E165)-1)) -> Usluge dostavljanja pripremljene hrane (catering) u škole | H165: =[1]NARUDŽNENICE!H165 -> 55524000 | I165: =[1]NARUDŽNENICE!I165 -> 528.84 | J165: =[1]NARUDŽNENICE!J165 -> 68.75 | K165: =SUM(I165:J165) -> 597.59 | L165: =[1]NARUDŽNENICE!P165 -> 104-550-01 + Prehrana učenika u osnovnim školama | M165: =[1]NARUDŽNENICE!Q165 -> 104-550-01 | N165: =[1]NARUDŽNENICE!R165 -> 0
A166: 164 | B166: =[1]NARUDŽNENICE!B166 -> 165 | C166: =[1]NARUDŽNENICE!C166 -> 03.03.2026. | D166: =[1]NARUDŽNENICE!D166 -> Jadranka trgovina d.o.o. | E166: =[1]NARUDŽNENICE!E166 -> 322141 + Proizvodi za čišćenje + 39830000 | F166: =IF(E166=0," ",LEFT(E166, SEARCH("+",E166)-1)) -> 322141 | G166: =IF(E166=0," ",MID(E166,SEARCH("+",E166)+1,SEARCH("+",E166,SEARCH("+",E166)+1)-SEARCH("+",E166)-1)) -> Proizvodi za čišćenje | H166: =[1]NARUDŽNENICE!H166 -> 39830000 | I166: =[1]NARUDŽNENICE!I166 -> 369.51 | J166: =[1]NARUDŽNENICE!J166 -> 92.39 | K166: =SUM(I166:J166) -> 461.9 | L166: =[1]NARUDŽNENICE!P166 -> 101-44-01 + Osiguravanje uvjeta rada - decentralizirane funkcije - OŠ | M166: =[1]NARUDŽNENICE!Q166 -> 101-44-01 | N166: =[1]NARUDŽNENICE!R166 -> 0
A167: 165 | B167: =[1]NARUDŽNENICE!B167 -> 166 | C167: =[1]NARUDŽNENICE!C167 -> 04.03.2026. | D167: =[1]NARUDŽNENICE!D167 -> Lječilište Veli Lošinj | E167: =[1]NARUDŽNENICE!E167 -> 323991 + Usluge dostavljanja pripremljene hrane (catering) u škole + 55524000 | F167: =IF(E167=0," ",LEFT(E167, SEARCH("+",E167)-1)) -> 323991 | G167: =IF(E167=0," ",MID(E167,SEARCH("+",E167)+1,SEARCH("+",E167,SEARCH("+",E167)+1)-SEARCH("+",E167)-1)) -> Usluge dostavljanja pripremljene hrane (catering) u škole | H167: =[1]NARUDŽNENICE!H167 -> 55524000 | I167: =[1]NARUDŽNENICE!I167 -> 528.84 | J167: =[1]NARUDŽNENICE!J167 -> 68.75 | K167: =SUM(I167:J167) -> 597.59 | L167: =[1]NARUDŽNENICE!P167 -> 104-550-01 + Prehrana učenika u osnovnim školama | M167: =[1]NARUDŽNENICE!Q167 -> 104-550-01 | N167: =[1]NARUDŽNENICE!R167 -> 0
A168: 166 | B168: =[1]NARUDŽNENICE!B168 -> 167 | C168: =[1]NARUDŽNENICE!C168 -> 04.03.2026. | D168: =[1]NARUDŽNENICE!D168 -> Jadranka trgovina d.o.o. | E168: =[1]NARUDŽNENICE!E168 -> 322241 + Meso, mesni proizvodi i riba + 15100000 | F168: =IF(E168=0," ",LEFT(E168, SEARCH("+",E168)-1)) -> 322241 | G168: =IF(E168=0," ",MID(E168,SEARCH("+",E168)+1,SEARCH("+",E168,SEARCH("+",E168)+1)-SEARCH("+",E168)-1)) -> Meso, mesni proizvodi i riba | H168: =[1]NARUDŽNENICE!H168 -> 15100000 | I168: =[1]NARUDŽNENICE!I168 -> 193.69 | J168: =[1]NARUDŽNENICE!J168 -> 24.79 | K168: =SUM(I168:J168) -> 218.48 | L168: =[1]NARUDŽNENICE!P168 -> 201-43-01 + COOR - prihodi za posebne namjene | M168: =[1]NARUDŽNENICE!Q168 -> 201-43-01 | N168: =[1]NARUDŽNENICE!R168 -> 0
A169: 167 | B169: =[1]NARUDŽNENICE!B169 -> 168 | C169: =[1]NARUDŽNENICE!C169 -> 04.03.2026. | D169: =[1]NARUDŽNENICE!D169 -> Jadranka trgovina d.o.o. | E169: =[1]NARUDŽNENICE!E169 -> 322241 + Mlijeko i mliječni proizvodi + 15500000 | F169: =IF(E169=0," ",LEFT(E169, SEARCH("+",E169)-1)) -> 322241 | G169: =IF(E169=0," ",MID(E169,SEARCH("+",E169)+1,SEARCH("+",E169,SEARCH("+",E169)+1)-SEARCH("+",E169)-1)) -> Mlijeko i mliječni proizvodi | H169: =[1]NARUDŽNENICE!H169 -> 15500000 | I169: =[1]NARUDŽNENICE!I169 -> 41.1 | J169: =[1]NARUDŽNENICE!J169 -> 8.97 | K169: =SUM(I169:J169) -> 50.07 | L169: =[1]NARUDŽNENICE!P169 -> 201-43-01 + COOR - prihodi za posebne namjene | M169: =[1]NARUDŽNENICE!Q169 -> 201-43-01 | N169: =[1]NARUDŽNENICE!R169 -> 0
A170: 168 | B170: =[1]NARUDŽNENICE!B170 -> 169 | C170: =[1]NARUDŽNENICE!C170 -> 04.03.2026. | D170: =[1]NARUDŽNENICE!D170 -> Jadranka trgovina d.o.o. | E170: =[1]NARUDŽNENICE!E170 -> 322241 + Krušni proizvodi, svježa peciva i kolači + 15810000 | F170: =IF(E170=0," ",LEFT(E170, SEARCH("+",E170)-1)) -> 322241 | G170: =IF(E170=0," ",MID(E170,SEARCH("+",E170)+1,SEARCH("+",E170,SEARCH("+",E170)+1)-SEARCH("+",E170)-1)) -> Krušni proizvodi, svježa peciva i kolači | H170: =[1]NARUDŽNENICE!H170 -> 15810000 | I170: =[1]NARUDŽNENICE!I170 -> 80.46 | J170: =[1]NARUDŽNENICE!J170 -> 12.85 | K170: =SUM(I170:J170) -> 93.31 | L170: =[1]NARUDŽNENICE!P170 -> 201-43-01 + COOR - prihodi za posebne namjene | M170: =[1]NARUDŽNENICE!Q170 -> 201-43-01 | N170: =[1]NARUDŽNENICE!R170 -> 0
A171: 169 | B171: =[1]NARUDŽNENICE!B171 -> 170 | C171: =[1]NARUDŽNENICE!C171 -> 04.03.2026. | D171: =[1]NARUDŽNENICE!D171 -> Jadranka trgovina d.o.o. | E171: =[1]NARUDŽNENICE!E171 -> 322241 + Voće i orašasti plodovi + 03222000 | F171: =IF(E171=0," ",LEFT(E171, SEARCH("+",E171)-1)) -> 322241 | G171: =IF(E171=0," ",MID(E171,SEARCH("+",E171)+1,SEARCH("+",E171,SEARCH("+",E171)+1)-SEARCH("+",E171)-1)) -> Voće i orašasti plodovi | H171: =[1]NARUDŽNENICE!H171 -> 03222000 | I171: =[1]NARUDŽNENICE!I171 -> 54.9 | J171: =[1]NARUDŽNENICE!J171 -> 2.75 | K171: =SUM(I171:J171) -> 57.65 | L171: =[1]NARUDŽNENICE!P171 -> 201-43-01 + COOR - prihodi za posebne namjene | M171: =[1]NARUDŽNENICE!Q171 -> 201-43-01 | N171: =[1]NARUDŽNENICE!R171 -> 0
A172: 170 | B172: =[1]NARUDŽNENICE!B172 -> 171 | C172: =[1]NARUDŽNENICE!C172 -> 04.03.2026. | D172: =[1]NARUDŽNENICE!D172 -> Jadranka trgovina d.o.o. | E172: =[1]NARUDŽNENICE!E172 -> 322241 + Povrće + 03221000 | F172: =IF(E172=0," ",LEFT(E172, SEARCH("+",E172)-1)) -> 322241 | G172: =IF(E172=0," ",MID(E172,SEARCH("+",E172)+1,SEARCH("+",E172,SEARCH("+",E172)+1)-SEARCH("+",E172)-1)) -> Povrće | H172: =[1]NARUDŽNENICE!H172 -> 03221000 | I172: =[1]NARUDŽNENICE!I172 -> 100.92 | J172: =[1]NARUDŽNENICE!J172 -> 5.05 | K172: =SUM(I172:J172) -> 105.97 | L172: =[1]NARUDŽNENICE!P172 -> 201-43-01 + COOR - prihodi za posebne namjene | M172: =[1]NARUDŽNENICE!Q172 -> 201-43-01 | N172: =[1]NARUDŽNENICE!R172 -> 0
A173: 171 | B173: =[1]NARUDŽNENICE!B173 -> 172 | C173: =[1]NARUDŽNENICE!C173 -> 04.03.2026. | D173: =[1]NARUDŽNENICE!D173 -> Jadranka trgovina d.o.o. | E173: =[1]NARUDŽNENICE!E173 -> 322241 + Prerađeno voće i povrće + 15330000 | F173: =IF(E173=0," ",LEFT(E173, SEARCH("+",E173)-1)) -> 322241 | G173: =IF(E173=0," ",MID(E173,SEARCH("+",E173)+1,SEARCH("+",E173,SEARCH("+",E173)+1)-SEARCH("+",E173)-1)) -> Prerađeno voće i povrće | H173: =[1]NARUDŽNENICE!H173 -> 15330000 | I173: =[1]NARUDŽNENICE!I173 -> 28.37 | J173: =[1]NARUDŽNENICE!J173 -> 7.1 | K173: =SUM(I173:J173) -> 35.47 | L173: =[1]NARUDŽNENICE!P173 -> 201-43-01 + COOR - prihodi za posebne namjene | M173: =[1]NARUDŽNENICE!Q173 -> 201-43-01 | N173: =[1]NARUDŽNENICE!R173 -> 0
A174: 172 | B174: =[1]NARUDŽNENICE!B174 -> 173 | C174: =[1]NARUDŽNENICE!C174 -> 04.03.2026. | D174: =[1]NARUDŽNENICE!D174 -> Jadranka trgovina d.o.o. | E174: =[1]NARUDŽNENICE!E174 -> 322241 + Ostale namirnice + 15800000 | F174: =IF(E174=0," ",LEFT(E174, SEARCH("+",E174)-1)) -> 322241 | G174: =IF(E174=0," ",MID(E174,SEARCH("+",E174)+1,SEARCH("+",E174,SEARCH("+",E174)+1)-SEARCH("+",E174)-1)) -> Ostale namirnice | H174: =[1]NARUDŽNENICE!H174 -> 15800000 | I174: =[1]NARUDŽNENICE!I174 -> 67.3 | J174: =[1]NARUDŽNENICE!J174 -> 12.08 | K174: =SUM(I174:J174) -> 79.38 | L174: =[1]NARUDŽNENICE!P174 -> 201-43-01 + COOR - prihodi za posebne namjene | M174: =[1]NARUDŽNENICE!Q174 -> 201-43-01 | N174: =[1]NARUDŽNENICE!R174 -> 0
A175: 173 | B175: =[1]NARUDŽNENICE!B175 -> 174 | C175: =[1]NARUDŽNENICE!C175 -> 04.03.2026. | D175: =[1]NARUDŽNENICE!D175 -> Jadranka trgovina d.o.o. | E175: =[1]NARUDŽNENICE!E175 -> 322241 + Voće i orašasti plodovi + 03222000 | F175: =IF(E175=0," ",LEFT(E175, SEARCH("+",E175)-1)) -> 322241 | G175: =IF(E175=0," ",MID(E175,SEARCH("+",E175)+1,SEARCH("+",E175,SEARCH("+",E175)+1)-SEARCH("+",E175)-1)) -> Voće i orašasti plodovi | H175: =[1]NARUDŽNENICE!H175 -> 03222000 | I175: =[1]NARUDŽNENICE!I175 -> 86.9 | J175: =[1]NARUDŽNENICE!J175 -> 4.35 | K175: =SUM(I175:J175) -> 91.25 | L175: =[1]NARUDŽNENICE!P175 -> 205-11-01 + Jedna voćka za svakog prvašića | M175: =[1]NARUDŽNENICE!Q175 -> 205-11-01 | N175: =[1]NARUDŽNENICE!R175 -> 0
... A2002: 2000 | B2002: =[1]NARUDŽNENICE!B2002 -> 0 | C2002: =[1]NARUDŽNENICE!C2002 -> 0 | D2002: =[1]NARUDŽNENICE!D2002 -> 0 | E2002: =[1]NARUDŽNENICE!E2002 -> 0 | F2002: =IF(E2002=0," ",LEFT(E2002, SEARCH("+",E2002)-1)) | G2002: =IF(E2002=0," ",MID(E2002,SEARCH("+",E2002)+1,SEARCH("+",E2002,SEARCH("+",E2002)+1)-SEARCH("+",E2002)-1)) | H2002: =[1]NARUDŽNENICE!H2002 | I2002: =[1]NARUDŽNENICE!I2002 -> 0 | J2002: =[1]NARUDŽNENICE!J2002 -> 0 | K2002: =SUM(I2002:J2002) -> 0 | L2002: =[1]NARUDŽNENICE!P2002 -> 0 | M2002: =[1]NARUDŽNENICE!Q2002 | N2002: =[1]NARUDŽNENICE!R2002 -> 0
